BEGIN:VCALENDAR
VERSION:2.0
PRODID:-// - ECPv5.2.1.1//NONSGML v1.0//EN
CALSCALE:GREGORIAN
METHOD:PUBLISH
X-ORIGINAL-URL:https://amicale-musique-air.fr
X-WR-CALDESC:évènements pour 
BEGIN:VTIMEZONE
TZID:Europe/Paris
BEGIN:DAYLIGHT
TZOFFSETFROM:+0100
TZOFFSETTO:+0200
TZNAME:CEST
DTSTART:20210328T010000
END:DAYLIGHT
BEGIN:STANDARD
TZOFFSETFROM:+0200
TZOFFSETTO:+0100
TZNAME:CET
DTSTART:20211031T010000
END:STANDARD
END:VTIMEZONE
BEGIN:VEVENT
DTSTART;TZID=Europe/Paris:20211114T120000
DTEND;TZID=Europe/Paris:20211114T153000
DTSTAMP:20260421T222110
CREATED:20211007T092409Z
LAST-MODIFIED:20211007T095312Z
UID:1867-1636891200-1636903800@amicale-musique-air.fr
SUMMARY:Ste Cécile
DESCRIPTION:Balade sur la Seine avec les Bateaux Parisiens\nRendez-vous à midi pour un apéritif sur le « Saphir »\, que nous avons privatisé pour vous !\n13h départ pour un déjeuner  croisière\n15h retour à quai\nInscription par mail : amicalemusiquedelair@gmail.com ou au 06 15 30 29 25 (Hervé) \nCi-joint le formulaire d’inscription pour formuler votre choix de menu. INDISPENSABLE POUR LA RESERVATION \n  \nPour vous inscrire cliquez sur : \n14 novembre 2021 \n  \npour le menu cliquez sur : \nMenu Tradition 14 novembre \n 
URL:https://amicale-musique-air.fr/evenement/ste-cecile/
LOCATION:Bateaux Parisiens\, Port de la Bourdonnais\, Paris\, 75007
END:VEVENT
END:VCALENDAR