BEGIN:VCALENDAR
VERSION:2.0
PRODID:-// - ECPv5.2.1.1//NONSGML v1.0//EN
CALSCALE:GREGORIAN
METHOD:PUBLISH
X-ORIGINAL-URL:https://amicale-musique-air.fr
X-WR-CALDESC:évènements pour 
BEGIN:VTIMEZONE
TZID:Europe/Paris
BEGIN:DAYLIGHT
TZOFFSETFROM:+0100
TZOFFSETTO:+0200
TZNAME:CEST
DTSTART:20230326T010000
END:DAYLIGHT
BEGIN:STANDARD
TZOFFSETFROM:+0200
TZOFFSETTO:+0100
TZNAME:CET
DTSTART:20231029T010000
END:STANDARD
END:VTIMEZONE
BEGIN:VEVENT
DTSTART;TZID=Europe/Paris:20231112T113000
DTEND;TZID=Europe/Paris:20231112T160000
DTSTAMP:20260421T102835
CREATED:20231003T201351Z
LAST-MODIFIED:20231003T205005Z
UID:2354-1699788600-1699804800@amicale-musique-air.fr
SUMMARY:Ste Cécile
DESCRIPTION:
URL:https://amicale-musique-air.fr/evenement/ste-cecile-2/
LOCATION:Le Bouillon Racine\, 3\, rue Racine\, Paris\, 75006
END:VEVENT
END:VCALENDAR