BEGIN:VCALENDAR
VERSION:2.0
PRODID:-// - ECPv5.2.1.1//NONSGML v1.0//EN
CALSCALE:GREGORIAN
METHOD:PUBLISH
X-ORIGINAL-URL:https://amicale-musique-air.fr
X-WR-CALDESC:évènements pour 
BEGIN:VTIMEZONE
TZID:Europe/Paris
BEGIN:DAYLIGHT
TZOFFSETFROM:+0100
TZOFFSETTO:+0200
TZNAME:CEST
DTSTART:20220327T010000
END:DAYLIGHT
BEGIN:STANDARD
TZOFFSETFROM:+0200
TZOFFSETTO:+0100
TZNAME:CET
DTSTART:20221030T010000
END:STANDARD
END:VTIMEZONE
BEGIN:VEVENT
DTSTART;TZID=Europe/Paris:20221113T121400
DTEND;TZID=Europe/Paris:20221113T154300
DTSTAMP:20260421T152351
CREATED:20220830T124924Z
LAST-MODIFIED:20221106T204539Z
UID:2190-1668341640-1668354180@amicale-musique-air.fr
SUMMARY:Ste Cécile
DESCRIPTION:Sur le «  »Bretagne » » des Bateaux Parisiens\, \nles actifs\, les anciens\, les jeunes retraités et les amis de la Musique de l’Air & de l’Espace \nApéritif à partir de 12h15 \ndépart déjeuner croisière 13h (environ 2h)
URL:https://amicale-musique-air.fr/evenement/sortie-ste-cecile/
LOCATION:Bateaux Parisiens\, Port de la Bourdonnais\, Paris\, 75007
END:VEVENT
END:VCALENDAR