BEGIN:VCALENDAR
VERSION:2.0
PRODID:-// - ECPv5.2.1.1//NONSGML v1.0//EN
CALSCALE:GREGORIAN
METHOD:PUBLISH
X-ORIGINAL-URL:https://amicale-musique-air.fr
X-WR-CALDESC:évènements pour 
BEGIN:VTIMEZONE
TZID:Europe/Paris
BEGIN:DAYLIGHT
TZOFFSETFROM:+0100
TZOFFSETTO:+0200
TZNAME:CEST
DTSTART:20240331T010000
END:DAYLIGHT
BEGIN:STANDARD
TZOFFSETFROM:+0200
TZOFFSETTO:+0100
TZNAME:CET
DTSTART:20241027T010000
END:STANDARD
END:VTIMEZONE
BEGIN:VEVENT
DTSTART;TZID=Europe/Paris:20240824T120000
DTEND;TZID=Europe/Paris:20240824T183000
DTSTAMP:20260421T070429
CREATED:20240810T201842Z
LAST-MODIFIED:20240810T202613Z
UID:2584-1724500800-1724524200@amicale-musique-air.fr
SUMMARY:Sortie Accrobranche
DESCRIPTION:Cliquez sur la newsletter pour retrouver le lien et vous inscrire ! \n 
URL:https://amicale-musique-air.fr/evenement/sortie-accrobranche/
LOCATION:Bièvre
END:VEVENT
END:VCALENDAR