BEGIN:VCALENDAR
VERSION:2.0
PRODID:-// - ECPv5.2.1.1//NONSGML v1.0//EN
CALSCALE:GREGORIAN
METHOD:PUBLISH
X-ORIGINAL-URL:https://amicale-musique-air.fr
X-WR-CALDESC:évènements pour 
BEGIN:VTIMEZONE
TZID:Europe/Paris
BEGIN:DAYLIGHT
TZOFFSETFROM:+0100
TZOFFSETTO:+0200
TZNAME:CEST
DTSTART:20200329T010000
END:DAYLIGHT
BEGIN:STANDARD
TZOFFSETFROM:+0200
TZOFFSETTO:+0100
TZNAME:CET
DTSTART:20201025T010000
END:STANDARD
END:VTIMEZONE
BEGIN:VEVENT
DTSTART;TZID=Europe/Paris:20201108T110000
DTEND;TZID=Europe/Paris:20201108T180000
DTSTAMP:20260422T034428
CREATED:20200916T092615Z
LAST-MODIFIED:20201024T192414Z
UID:415-1604833200-1604858400@amicale-musique-air.fr
SUMMARY:La Sainte Cécile de l'Amicale est reportée au printemps 2021
DESCRIPTION:L’Amicale de la Musique de l’Air fêtera ses…  71 ans ! en 2021… \nA bord des bateaux parisiens\, déjeuner croisière ! \n 
URL:https://amicale-musique-air.fr/evenement/soiree-de-la-sainte-cecile-de-lamicale/
ATTACH;FMTTYPE=image/jpeg:https://amicale-musique-air.fr/wp-content/uploads/2020/09/Couv_Dinner.jpg
END:VEVENT
END:VCALENDAR