BEGIN:VCALENDAR
VERSION:2.0
PRODID:-// - ECPv5.2.1.1//NONSGML v1.0//EN
CALSCALE:GREGORIAN
METHOD:PUBLISH
X-ORIGINAL-URL:https://amicale-musique-air.fr
X-WR-CALDESC:évènements pour 
BEGIN:VTIMEZONE
TZID:Europe/Paris
BEGIN:DAYLIGHT
TZOFFSETFROM:+0100
TZOFFSETTO:+0200
TZNAME:CEST
DTSTART:20210328T010000
END:DAYLIGHT
BEGIN:STANDARD
TZOFFSETFROM:+0200
TZOFFSETTO:+0100
TZNAME:CET
DTSTART:20211031T010000
END:STANDARD
END:VTIMEZONE
BEGIN:VEVENT
DTSTART;TZID=Europe/Paris:20210925T170000
DTEND;TZID=Europe/Paris:20210925T180000
DTSTAMP:20260421T221058
CREATED:20210924T120135Z
LAST-MODIFIED:20210924T120407Z
UID:1779-1632589200-1632592800@amicale-musique-air.fr
SUMMARY:Quartet Jazz
DESCRIPTION:Journée de l’Armée de l’Air et de l’Espace
URL:https://amicale-musique-air.fr/evenement/quartet-jazz/
LOCATION:Colombey-les-deux-églises\, Mémorial Charles de Gaulle\, Colombey les-deux-églises\, 52330
END:VEVENT
END:VCALENDAR