BEGIN:VCALENDAR
VERSION:2.0
PRODID:-// - ECPv5.2.1.1//NONSGML v1.0//EN
CALSCALE:GREGORIAN
METHOD:PUBLISH
X-ORIGINAL-URL:https://amicale-musique-air.fr
X-WR-CALDESC:évènements pour 
BEGIN:VTIMEZONE
TZID:Europe/Paris
BEGIN:DAYLIGHT
TZOFFSETFROM:+0100
TZOFFSETTO:+0200
TZNAME:CEST
DTSTART:20250330T010000
END:DAYLIGHT
BEGIN:STANDARD
TZOFFSETFROM:+0200
TZOFFSETTO:+0100
TZNAME:CET
DTSTART:20251026T010000
END:STANDARD
END:VTIMEZONE
BEGIN:VEVENT
DTSTART;TZID=Europe/Paris:20250119T160000
DTEND;TZID=Europe/Paris:20250119T180000
DTSTAMP:20260421T031059
CREATED:20241226T215504Z
LAST-MODIFIED:20241226T220048Z
UID:2683-1737302400-1737309600@amicale-musique-air.fr
SUMMARY:L'Orchestre d'Harmonie aux Invalides
DESCRIPTION:Concert annuel de la délégation auprès de l’H.I.A
URL:https://amicale-musique-air.fr/evenement/lorchestre-dharmonie-aux-invalides/
LOCATION:Invalides\, 129 Rue de Grenelle\, PARIS\, 75007\, France
END:VEVENT
END:VCALENDAR