BEGIN:VCALENDAR
VERSION:2.0
PRODID:-// - ECPv5.2.1.1//NONSGML v1.0//EN
CALSCALE:GREGORIAN
METHOD:PUBLISH
X-ORIGINAL-URL:https://amicale-musique-air.fr
X-WR-CALDESC:évènements pour 
BEGIN:VTIMEZONE
TZID:Europe/Paris
BEGIN:DAYLIGHT
TZOFFSETFROM:+0100
TZOFFSETTO:+0200
TZNAME:CEST
DTSTART:20230326T010000
END:DAYLIGHT
BEGIN:STANDARD
TZOFFSETFROM:+0200
TZOFFSETTO:+0100
TZNAME:CET
DTSTART:20231029T010000
END:STANDARD
END:VTIMEZONE
BEGIN:VEVENT
DTSTART;TZID=Europe/Paris:20231103T200000
DTEND;TZID=Europe/Paris:20231103T220000
DTSTAMP:20260421T102956
CREATED:20231003T204910Z
LAST-MODIFIED:20231003T204910Z
UID:2368-1699041600-1699048800@amicale-musique-air.fr
SUMMARY:L'Harmonie à Avignon
DESCRIPTION:Concert en collaboration avec l’Harmonie du CRR d’Avignon
URL:https://amicale-musique-air.fr/evenement/lharmonie-a-avignon/
LOCATION:Opéra Théâtre\, 1 rue Racine\, Avignon\, 84000
END:VEVENT
END:VCALENDAR