BEGIN:VCALENDAR
VERSION:2.0
PRODID:-// - ECPv5.2.1.1//NONSGML v1.0//EN
CALSCALE:GREGORIAN
METHOD:PUBLISH
X-ORIGINAL-URL:https://amicale-musique-air.fr
X-WR-CALDESC:évènements pour 
BEGIN:VTIMEZONE
TZID:Europe/Paris
BEGIN:DAYLIGHT
TZOFFSETFROM:+0100
TZOFFSETTO:+0200
TZNAME:CEST
DTSTART:20220327T010000
END:DAYLIGHT
BEGIN:STANDARD
TZOFFSETFROM:+0200
TZOFFSETTO:+0100
TZNAME:CET
DTSTART:20221030T010000
END:STANDARD
END:VTIMEZONE
BEGIN:VEVENT
DTSTART;TZID=Europe/Paris:20220630T203000
DTEND;TZID=Europe/Paris:20220630T230000
DTSTAMP:20260421T172039
CREATED:20220216T200246Z
LAST-MODIFIED:20220216T200318Z
UID:2093-1656621000-1656630000@amicale-musique-air.fr
SUMMARY:Les Orchestres de la Musique de l'Air
DESCRIPTION:
URL:https://amicale-musique-air.fr/evenement/les-orchestres-de-la-musique-de-lair-2/
LOCATION:Château de l’Empéri\, Salon de Provence\, 13300\, France
END:VEVENT
END:VCALENDAR