BEGIN:VCALENDAR
VERSION:2.0
PRODID:-// - ECPv5.2.1.1//NONSGML v1.0//EN
CALSCALE:GREGORIAN
METHOD:PUBLISH
X-ORIGINAL-URL:https://amicale-musique-air.fr
X-WR-CALDESC:évènements pour 
BEGIN:VTIMEZONE
TZID:Europe/Paris
BEGIN:DAYLIGHT
TZOFFSETFROM:+0100
TZOFFSETTO:+0200
TZNAME:CEST
DTSTART:20230326T010000
END:DAYLIGHT
BEGIN:STANDARD
TZOFFSETFROM:+0200
TZOFFSETTO:+0100
TZNAME:CET
DTSTART:20231029T010000
END:STANDARD
END:VTIMEZONE
BEGIN:VEVENT
DTSTART;TZID=Europe/Paris:20231119T143000
DTEND;TZID=Europe/Paris:20231119T163000
DTSTAMP:20260421T103806
CREATED:20231003T210446Z
LAST-MODIFIED:20231003T210446Z
UID:2378-1700404200-1700411400@amicale-musique-air.fr
SUMMARY:Le Brass Band de la Musique de l'Air et de l'Espace
DESCRIPTION:
URL:https://amicale-musique-air.fr/evenement/le-brass-band-de-la-musique-de-lair-et-de-lespace-2/
LOCATION:Salle des Sports et Loisirs\, Route des Ayes\, St George d'Espéranche\, 38790\, France
END:VEVENT
END:VCALENDAR