BEGIN:VCALENDAR
VERSION:2.0
PRODID:-// - ECPv5.2.1.1//NONSGML v1.0//EN
CALSCALE:GREGORIAN
METHOD:PUBLISH
X-ORIGINAL-URL:https://amicale-musique-air.fr
X-WR-CALDESC:évènements pour 
BEGIN:VTIMEZONE
TZID:Europe/Paris
BEGIN:DAYLIGHT
TZOFFSETFROM:+0100
TZOFFSETTO:+0200
TZNAME:CEST
DTSTART:20210328T010000
END:DAYLIGHT
BEGIN:STANDARD
TZOFFSETFROM:+0200
TZOFFSETTO:+0100
TZNAME:CET
DTSTART:20211031T010000
END:STANDARD
END:VTIMEZONE
BEGIN:VEVENT
DTSTART;TZID=Europe/Paris:20210605T160000
DTEND;TZID=Europe/Paris:20210605T170000
DTSTAMP:20260422T002225
CREATED:20210604T084720Z
LAST-MODIFIED:20210604T084720Z
UID:1712-1622908800-1622912400@amicale-musique-air.fr
SUMMARY:La Folle journée
DESCRIPTION:Mus Air St Nazaire
URL:https://amicale-musique-air.fr/evenement/la-folle-journee/
LOCATION:Alvéole 12\, Saint-Nazaire\, 44600\, France
END:VEVENT
END:VCALENDAR