BEGIN:VCALENDAR
VERSION:2.0
PRODID:-// - ECPv5.2.1.1//NONSGML v1.0//EN
CALSCALE:GREGORIAN
METHOD:PUBLISH
X-ORIGINAL-URL:https://amicale-musique-air.fr
X-WR-CALDESC:évènements pour 
BEGIN:VTIMEZONE
TZID:Europe/Paris
BEGIN:DAYLIGHT
TZOFFSETFROM:+0100
TZOFFSETTO:+0200
TZNAME:CEST
DTSTART:20250330T010000
END:DAYLIGHT
BEGIN:STANDARD
TZOFFSETFROM:+0200
TZOFFSETTO:+0100
TZNAME:CET
DTSTART:20251026T010000
END:STANDARD
END:VTIMEZONE
BEGIN:VEVENT
DTSTART;TZID=Europe/Paris:20250130T211500
DTEND;TZID=Europe/Paris:20250130T220000
DTSTAMP:20260421T014854
CREATED:20250106T151902Z
LAST-MODIFIED:20250106T154437Z
UID:2694-1738271700-1738274400@amicale-musique-air.fr
SUMMARY:La Folle Journée de la Musique de l'Air et de l'Espace !
DESCRIPTION:
URL:https://amicale-musique-air.fr/evenement/la-folle-journee-de-la-musique-de-lair-et-de-lespace/
LOCATION:Cité des Congrès\, 5 rue de Valmy\, Nantes\, 44000\, France
END:VEVENT
END:VCALENDAR