BEGIN:VCALENDAR
VERSION:2.0
PRODID:-// - ECPv5.2.1.1//NONSGML v1.0//EN
CALSCALE:GREGORIAN
METHOD:PUBLISH
X-ORIGINAL-URL:https://amicale-musique-air.fr
X-WR-CALDESC:évènements pour 
BEGIN:VTIMEZONE
TZID:Europe/Paris
BEGIN:DAYLIGHT
TZOFFSETFROM:+0100
TZOFFSETTO:+0200
TZNAME:CEST
DTSTART:20220327T010000
END:DAYLIGHT
BEGIN:STANDARD
TZOFFSETFROM:+0200
TZOFFSETTO:+0100
TZNAME:CET
DTSTART:20221030T010000
END:STANDARD
END:VTIMEZONE
BEGIN:VEVENT
DTSTART;TZID=Europe/Paris:20220129T113000
DTEND;TZID=Europe/Paris:20220129T123000
DTSTAMP:20260421T221026
CREATED:20220113T213603Z
LAST-MODIFIED:20220113T213609Z
UID:1915-1643455800-1643459400@amicale-musique-air.fr
SUMMARY:La Folle Journée
DESCRIPTION:Franz SCHUBERT
URL:https://amicale-musique-air.fr/evenement/la-folle-journee-2/
LOCATION:Salle Mayrhofer\, Cité des Congrès\, Nantes\, 44000
END:VEVENT
END:VCALENDAR