BEGIN:VCALENDAR
VERSION:2.0
PRODID:-// - ECPv5.2.1.1//NONSGML v1.0//EN
CALSCALE:GREGORIAN
METHOD:PUBLISH
X-ORIGINAL-URL:https://amicale-musique-air.fr
X-WR-CALDESC:évènements pour 
BEGIN:VTIMEZONE
TZID:Europe/Paris
BEGIN:DAYLIGHT
TZOFFSETFROM:+0100
TZOFFSETTO:+0200
TZNAME:CEST
DTSTART:20220327T010000
END:DAYLIGHT
BEGIN:STANDARD
TZOFFSETFROM:+0200
TZOFFSETTO:+0100
TZNAME:CET
DTSTART:20221030T010000
END:STANDARD
END:VTIMEZONE
BEGIN:VEVENT
DTSTART;TZID=Europe/Paris:20220123T140000
DTEND;TZID=Europe/Paris:20220123T153000
DTSTAMP:20260421T203449
CREATED:20220113T212850Z
LAST-MODIFIED:20220113T213029Z
UID:1912-1642946400-1642951800@amicale-musique-air.fr
SUMMARY:Folles Journées en Régions
DESCRIPTION:Franz SCHUBERT à l’Honneur
URL:https://amicale-musique-air.fr/evenement/folles-journees-en-regions-4/
LOCATION:Salle Louis-Claude Roux\, 1\, rue des Plantes\, Challans\, 85300
END:VEVENT
END:VCALENDAR