BEGIN:VCALENDAR
VERSION:2.0
PRODID:-// - ECPv5.2.1.1//NONSGML v1.0//EN
CALSCALE:GREGORIAN
METHOD:PUBLISH
X-ORIGINAL-URL:https://amicale-musique-air.fr
X-WR-CALDESC:évènements pour 
BEGIN:VTIMEZONE
TZID:Europe/Paris
BEGIN:DAYLIGHT
TZOFFSETFROM:+0100
TZOFFSETTO:+0200
TZNAME:CEST
DTSTART:20220327T010000
END:DAYLIGHT
BEGIN:STANDARD
TZOFFSETFROM:+0200
TZOFFSETTO:+0100
TZNAME:CET
DTSTART:20221030T010000
END:STANDARD
END:VTIMEZONE
BEGIN:VEVENT
DTSTART;TZID=Europe/Paris:20220602T200000
DTEND;TZID=Europe/Paris:20220602T220000
DTSTAMP:20260421T171222
CREATED:20220322T210458Z
LAST-MODIFIED:20220322T210458Z
UID:2124-1654200000-1654207200@amicale-musique-air.fr
SUMMARY:Ensemble Jazz
DESCRIPTION:
URL:https://amicale-musique-air.fr/evenement/ensemble-jazz-4/
LOCATION:Avord\, Salle polyvalente\, Rue de l'Hyère\, Avord\, 18520\, France
END:VEVENT
END:VCALENDAR