BEGIN:VCALENDAR
VERSION:2.0
PRODID:-// - ECPv5.2.1.1//NONSGML v1.0//EN
CALSCALE:GREGORIAN
METHOD:PUBLISH
X-ORIGINAL-URL:https://amicale-musique-air.fr
X-WR-CALDESC:évènements pour 
BEGIN:VTIMEZONE
TZID:Europe/Paris
BEGIN:DAYLIGHT
TZOFFSETFROM:+0100
TZOFFSETTO:+0200
TZNAME:CEST
DTSTART:20210328T010000
END:DAYLIGHT
BEGIN:STANDARD
TZOFFSETFROM:+0200
TZOFFSETTO:+0100
TZNAME:CET
DTSTART:20211031T010000
END:STANDARD
END:VTIMEZONE
BEGIN:VEVENT
DTSTART;TZID=Europe/Paris:20210930T200000
DTEND;TZID=Europe/Paris:20210930T220000
DTSTAMP:20260421T221812
CREATED:20210924T120815Z
LAST-MODIFIED:20210924T123219Z
UID:1784-1633032000-1633039200@amicale-musique-air.fr
SUMMARY:Ensemble Jazz
DESCRIPTION:https://amicale-musique-air.fr/wp-content/uploads/2021/03/Caravan-Coupe.mp3
URL:https://amicale-musique-air.fr/evenement/ensemble-jazz-2/
LOCATION:Auditorium du conservatoire\, 11 rue Danton\, Issy les Moulinaux\, 92130
END:VEVENT
END:VCALENDAR