BEGIN:VCALENDAR
VERSION:2.0
PRODID:-// - ECPv5.2.1.1//NONSGML v1.0//EN
CALSCALE:GREGORIAN
METHOD:PUBLISH
X-ORIGINAL-URL:https://amicale-musique-air.fr
X-WR-CALDESC:évènements pour 
BEGIN:VTIMEZONE
TZID:Europe/Paris
BEGIN:DAYLIGHT
TZOFFSETFROM:+0100
TZOFFSETTO:+0200
TZNAME:CEST
DTSTART:20210328T010000
END:DAYLIGHT
BEGIN:STANDARD
TZOFFSETFROM:+0200
TZOFFSETTO:+0100
TZNAME:CET
DTSTART:20211031T010000
END:STANDARD
END:VTIMEZONE
BEGIN:VEVENT
DTSTART;TZID=Europe/Paris:20210919T160000
DTEND;TZID=Europe/Paris:20210919T173000
DTSTAMP:20260422T002040
CREATED:20210820T212154Z
LAST-MODIFIED:20210908T204644Z
UID:1738-1632067200-1632072600@amicale-musique-air.fr
SUMMARY:Orchestre de Cuivres
DESCRIPTION:Concert dans le cadre du Festival \n« Le son des Cuivres »\nProgramme : \n– Enter the galaxies de Paul Lovatt Cooper\n– Los hermanos de bop de Mark Taylor\n– En trois couleurs de Jean-Jacques Charles pour Saxhorn Alto solo\n– Wheel of Fortune d’Hanz Zimmer\n– Nimrod\, extrait d’Enigma Variations d’Edward Elgar\n– Dark Abyss de Frederick Schkederup\n– Hymne à l’amour d’Edith Piaf\n– Caravan de Duke Ellington\n– Osterfjorden de Stijn Aertgeerts\n– La Fiesta de Chick Corea
URL:https://amicale-musique-air.fr/evenement/ensemble-de-jazz/
LOCATION:Espace Saugona\, 2\, rue de la gare\, Mamers\, 72600\, France
END:VEVENT
END:VCALENDAR