BEGIN:VCALENDAR
VERSION:2.0
PRODID:-// - ECPv5.2.1.1//NONSGML v1.0//EN
CALSCALE:GREGORIAN
METHOD:PUBLISH
X-ORIGINAL-URL:https://amicale-musique-air.fr
X-WR-CALDESC:évènements pour 
BEGIN:VTIMEZONE
TZID:Europe/Paris
BEGIN:DAYLIGHT
TZOFFSETFROM:+0100
TZOFFSETTO:+0200
TZNAME:CEST
DTSTART:20230326T010000
END:DAYLIGHT
BEGIN:STANDARD
TZOFFSETFROM:+0200
TZOFFSETTO:+0100
TZNAME:CET
DTSTART:20231029T010000
END:STANDARD
END:VTIMEZONE
BEGIN:VEVENT
DTSTART;TZID=Europe/Paris:20230307T080000
DTEND;TZID=Europe/Paris:20230307T150000
DTSTAMP:20260421T135142
CREATED:20230213T183151Z
LAST-MODIFIED:20230213T183151Z
UID:2283-1678176000-1678201200@amicale-musique-air.fr
SUMMARY:Concours de saxophone
DESCRIPTION:Avis concours Saxophone 07 mars 2023
URL:https://amicale-musique-air.fr/evenement/concours-de-saxophone/
END:VEVENT
END:VCALENDAR