BEGIN:VCALENDAR
VERSION:2.0
PRODID:-// - ECPv5.2.1.1//NONSGML v1.0//EN
CALSCALE:GREGORIAN
METHOD:PUBLISH
X-ORIGINAL-URL:https://amicale-musique-air.fr
X-WR-CALDESC:évènements pour 
BEGIN:VTIMEZONE
TZID:Europe/Paris
BEGIN:DAYLIGHT
TZOFFSETFROM:+0100
TZOFFSETTO:+0200
TZNAME:CEST
DTSTART:20210328T010000
END:DAYLIGHT
BEGIN:STANDARD
TZOFFSETFROM:+0200
TZOFFSETTO:+0100
TZNAME:CET
DTSTART:20211031T010000
END:STANDARD
END:VTIMEZONE
BEGIN:VEVENT
DTSTART;TZID=Europe/Paris:20210127T090000
DTEND;TZID=Europe/Paris:20210127T150000
DTSTAMP:20260422T033833
CREATED:20201228T171552Z
LAST-MODIFIED:20201228T172944Z
UID:1174-1611738000-1611759600@amicale-musique-air.fr
SUMMARY:Concours de clarinette (2 postes)
DESCRIPTION:Avis concours Clarinette 2021 \n  \n 
URL:https://amicale-musique-air.fr/evenement/concours-de-clarinette-2-postes/
LOCATION:Musique de l’Air Villacoublay
END:VEVENT
END:VCALENDAR