BEGIN:VCALENDAR
VERSION:2.0
PRODID:-// - ECPv5.2.1.1//NONSGML v1.0//EN
CALSCALE:GREGORIAN
METHOD:PUBLISH
X-ORIGINAL-URL:https://amicale-musique-air.fr
X-WR-CALDESC:évènements pour 
BEGIN:VTIMEZONE
TZID:Europe/Paris
BEGIN:DAYLIGHT
TZOFFSETFROM:+0100
TZOFFSETTO:+0200
TZNAME:CEST
DTSTART:20210328T010000
END:DAYLIGHT
BEGIN:STANDARD
TZOFFSETFROM:+0200
TZOFFSETTO:+0100
TZNAME:CET
DTSTART:20211031T010000
END:STANDARD
END:VTIMEZONE
BEGIN:VEVENT
DTSTART;TZID=Europe/Paris:20210318T080000
DTEND;TZID=Europe/Paris:20210318T123000
DTSTAMP:20260422T015700
CREATED:20210128T215241Z
LAST-MODIFIED:20210128T215453Z
UID:1203-1616054400-1616070600@amicale-musique-air.fr
SUMMARY:Concours Alto mib jouant le clairon
DESCRIPTION:Avis concours Saxhorn alto – 18 mars 2021 \n  \n 
URL:https://amicale-musique-air.fr/evenement/concours-alto-mib-jouant-le-clairon/
END:VEVENT
END:VCALENDAR