BEGIN:VCALENDAR
VERSION:2.0
PRODID:-// - ECPv5.2.1.1//NONSGML v1.0//EN
CALSCALE:GREGORIAN
METHOD:PUBLISH
X-ORIGINAL-URL:https://amicale-musique-air.fr
X-WR-CALDESC:évènements pour 
BEGIN:VTIMEZONE
TZID:Europe/Paris
BEGIN:DAYLIGHT
TZOFFSETFROM:+0100
TZOFFSETTO:+0200
TZNAME:CEST
DTSTART:20210328T010000
END:DAYLIGHT
BEGIN:STANDARD
TZOFFSETFROM:+0200
TZOFFSETTO:+0100
TZNAME:CET
DTSTART:20211031T010000
END:STANDARD
END:VTIMEZONE
BEGIN:VEVENT
DTSTART;TZID=Europe/Paris:20211130T203000
DTEND;TZID=Europe/Paris:20211130T223000
DTSTAMP:20260421T204940
CREATED:20210924T122524Z
LAST-MODIFIED:20210924T122636Z
UID:1793-1638304200-1638311400@amicale-musique-air.fr
SUMMARY:Concert Harmonie  /  Jazz
DESCRIPTION:https://amicale-musique-air.fr/wp-content/uploads/2021/03/Rhapsodie-Coupe.mp3
URL:https://amicale-musique-air.fr/evenement/concert-harmonie-jazz/
LOCATION:CRR Paris\, 14 Rue de Madrid\, Paris\, 75008
END:VEVENT
END:VCALENDAR