BEGIN:VCALENDAR
VERSION:2.0
PRODID:-// - ECPv5.2.1.1//NONSGML v1.0//EN
CALSCALE:GREGORIAN
METHOD:PUBLISH
X-ORIGINAL-URL:https://amicale-musique-air.fr
X-WR-CALDESC:évènements pour 
BEGIN:VTIMEZONE
TZID:Europe/Paris
BEGIN:DAYLIGHT
TZOFFSETFROM:+0100
TZOFFSETTO:+0200
TZNAME:CEST
DTSTART:20240331T010000
END:DAYLIGHT
BEGIN:STANDARD
TZOFFSETFROM:+0200
TZOFFSETTO:+0100
TZNAME:CET
DTSTART:20241027T010000
END:STANDARD
END:VTIMEZONE
BEGIN:VEVENT
DTSTART;VALUE=DATE:20240704
DTEND;VALUE=DATE:20240705
DTSTAMP:20260421T050744
CREATED:20240103T180741Z
LAST-MODIFIED:20240103T180741Z
UID:2440-1720051200-1720137599@amicale-musique-air.fr
SUMMARY:Concert Harmonie et Brass band
DESCRIPTION:Détails à venir
URL:https://amicale-musique-air.fr/evenement/concert-harmonie-et-brass-band/
LOCATION:Château de l’Empéri\, Salon de Provence\, 13300\, France
END:VEVENT
END:VCALENDAR