BEGIN:VCALENDAR
VERSION:2.0
PRODID:-// - ECPv5.2.1.1//NONSGML v1.0//EN
CALSCALE:GREGORIAN
METHOD:PUBLISH
X-ORIGINAL-URL:https://amicale-musique-air.fr
X-WR-CALDESC:évènements pour 
BEGIN:VTIMEZONE
TZID:Europe/Paris
BEGIN:DAYLIGHT
TZOFFSETFROM:+0100
TZOFFSETTO:+0200
TZNAME:CEST
DTSTART:20250330T010000
END:DAYLIGHT
BEGIN:STANDARD
TZOFFSETFROM:+0200
TZOFFSETTO:+0100
TZNAME:CET
DTSTART:20251026T010000
END:STANDARD
END:VTIMEZONE
BEGIN:VEVENT
DTSTART;TZID=Europe/Paris:20250329T203000
DTEND;TZID=Europe/Paris:20250329T203000
DTSTAMP:20260421T013603
CREATED:20250310T144937Z
LAST-MODIFIED:20250310T144937Z
UID:2733-1743280200-1743280200@amicale-musique-air.fr
SUMMARY:Concert Harmonie et Brass Band
DESCRIPTION:Brass-Band – Direction : Capitaine Laurent Douvre \n– Enter the galaxies de P-L Cooper \n– Red planet de L van Laenen \n– Song of the night sky de C Bond \nSans and Stars de T Deleruyelle \nOrchestre d’harmonie – Direction : Capitaine Philippe Loquet \n– Mutanza de J Curnow \n-10ème symphonie (2ème mouvement) de D Chostakovitch \n– Danse symphonique n°1 de S Rachmaninov \nFinal : Tutti \n– Libertadores de O Navarro
URL:https://amicale-musique-air.fr/evenement/concert-harmonie-et-brass-band-3/
LOCATION:Avord\, Salle polyvalente\, Rue de l'Hyère\, Avord\, 18520\, France
END:VEVENT
END:VCALENDAR