BEGIN:VCALENDAR
VERSION:2.0
PRODID:-// - ECPv5.2.1.1//NONSGML v1.0//EN
CALSCALE:GREGORIAN
METHOD:PUBLISH
X-ORIGINAL-URL:https://amicale-musique-air.fr
X-WR-CALDESC:évènements pour 
BEGIN:VTIMEZONE
TZID:Europe/Paris
BEGIN:DAYLIGHT
TZOFFSETFROM:+0100
TZOFFSETTO:+0200
TZNAME:CEST
DTSTART:20220327T010000
END:DAYLIGHT
BEGIN:STANDARD
TZOFFSETFROM:+0200
TZOFFSETTO:+0100
TZNAME:CET
DTSTART:20221030T010000
END:STANDARD
END:VTIMEZONE
BEGIN:VEVENT
DTSTART;TZID=Europe/Paris:20220917T163000
DTEND;TZID=Europe/Paris:20220917T173000
DTSTAMP:20260421T185716
CREATED:20220830T115542Z
LAST-MODIFIED:20220907T201743Z
UID:2169-1663432200-1663435800@amicale-musique-air.fr
SUMMARY:Concert harmonie aux Invalides
DESCRIPTION:Les Journées du Patrimoines \nG. Rossini\, C. Debussy\, C. Saint-Saëns\, R. Strauss\, I. Stravinsky \nDirection : Claude KESMAECKER
URL:https://amicale-musique-air.fr/evenement/concert-harmonie-aux-invalides/
LOCATION:Invalides\, 129 Rue de Grenelle\, PARIS\, 75007\, France
END:VEVENT
END:VCALENDAR