BEGIN:VCALENDAR
VERSION:2.0
PRODID:-// - ECPv5.2.1.1//NONSGML v1.0//EN
CALSCALE:GREGORIAN
METHOD:PUBLISH
X-ORIGINAL-URL:https://amicale-musique-air.fr
X-WR-CALDESC:évènements pour 
BEGIN:VTIMEZONE
TZID:Europe/Paris
BEGIN:DAYLIGHT
TZOFFSETFROM:+0100
TZOFFSETTO:+0200
TZNAME:CEST
DTSTART:20220327T010000
END:DAYLIGHT
BEGIN:STANDARD
TZOFFSETFROM:+0200
TZOFFSETTO:+0100
TZNAME:CET
DTSTART:20221030T010000
END:STANDARD
END:VTIMEZONE
BEGIN:VEVENT
DTSTART;TZID=Europe/Paris:20220918T143000
DTEND;TZID=Europe/Paris:20220918T160000
DTSTAMP:20260421T155225
CREATED:20220830T115345Z
LAST-MODIFIED:20220907T201231Z
UID:2167-1663511400-1663516800@amicale-musique-air.fr
SUMMARY:Concerts harmonie au Panthéon
DESCRIPTION:Les Journées du Patrimoines \ndeux « minis » concerts \n14h30 : Georges BIZET \nl’Arlésienne suite N°1 & 2 \n15h30 : Maurice RAVEL \nPavane pour une Infante Défunte\,  Boléro \n  \nDirection : Didier DESCAMPS
URL:https://amicale-musique-air.fr/evenement/concert-harmonie-au-pantheon/
LOCATION:Panthéon\, Place du Panthéon\, Paris
END:VEVENT
END:VCALENDAR