BEGIN:VCALENDAR
VERSION:2.0
PRODID:-// - ECPv5.2.1.1//NONSGML v1.0//EN
CALSCALE:GREGORIAN
METHOD:PUBLISH
X-ORIGINAL-URL:https://amicale-musique-air.fr
X-WR-CALDESC:évènements pour 
BEGIN:VTIMEZONE
TZID:Europe/Paris
BEGIN:DAYLIGHT
TZOFFSETFROM:+0100
TZOFFSETTO:+0200
TZNAME:CEST
DTSTART:20220327T010000
END:DAYLIGHT
BEGIN:STANDARD
TZOFFSETFROM:+0200
TZOFFSETTO:+0100
TZNAME:CET
DTSTART:20221030T010000
END:STANDARD
END:VTIMEZONE
BEGIN:VEVENT
DTSTART;TZID=Europe/Paris:20220514T203000
DTEND;TZID=Europe/Paris:20220514T223000
DTSTAMP:20260421T190503
CREATED:20220215T204139Z
LAST-MODIFIED:20220215T204242Z
UID:2049-1652560200-1652567400@amicale-musique-air.fr
SUMMARY:Concert Harmonie
DESCRIPTION:
URL:https://amicale-musique-air.fr/evenement/concert-harmonie-9/
LOCATION:Montigny le Bretonneux\, Montigny le Bretonneux\, 78180\, France
END:VEVENT
END:VCALENDAR