BEGIN:VCALENDAR
VERSION:2.0
PRODID:-// - ECPv5.2.1.1//NONSGML v1.0//EN
CALSCALE:GREGORIAN
METHOD:PUBLISH
X-ORIGINAL-URL:https://amicale-musique-air.fr
X-WR-CALDESC:évènements pour 
BEGIN:VTIMEZONE
TZID:Europe/Paris
BEGIN:DAYLIGHT
TZOFFSETFROM:+0100
TZOFFSETTO:+0200
TZNAME:CEST
DTSTART:20220327T010000
END:DAYLIGHT
BEGIN:STANDARD
TZOFFSETFROM:+0200
TZOFFSETTO:+0100
TZNAME:CET
DTSTART:20221030T010000
END:STANDARD
END:VTIMEZONE
BEGIN:VEVENT
DTSTART;TZID=Europe/Paris:20220521T160000
DTEND;TZID=Europe/Paris:20220521T170000
DTSTAMP:20260421T171227
CREATED:20220215T203314Z
LAST-MODIFIED:20220322T205750Z
UID:2042-1653148800-1653152400@amicale-musique-air.fr
SUMMARY:Concert ensemble JAZZ
DESCRIPTION:
URL:https://amicale-musique-air.fr/evenement/concert-harmonie-7/
LOCATION:Panthéon\, Place du Panthéon\, Paris
END:VEVENT
END:VCALENDAR