BEGIN:VCALENDAR
VERSION:2.0
PRODID:-// - ECPv5.2.1.1//NONSGML v1.0//EN
CALSCALE:GREGORIAN
METHOD:PUBLISH
X-ORIGINAL-URL:https://amicale-musique-air.fr
X-WR-CALDESC:évènements pour 
BEGIN:VTIMEZONE
TZID:Europe/Paris
BEGIN:DAYLIGHT
TZOFFSETFROM:+0100
TZOFFSETTO:+0200
TZNAME:CEST
DTSTART:20250330T010000
END:DAYLIGHT
BEGIN:STANDARD
TZOFFSETFROM:+0200
TZOFFSETTO:+0100
TZNAME:CET
DTSTART:20251026T010000
END:STANDARD
END:VTIMEZONE
BEGIN:VEVENT
DTSTART;VALUE=DATE:20251122
DTEND;VALUE=DATE:20251123
DTSTAMP:20260420T161324
CREATED:20250709T133810Z
LAST-MODIFIED:20250709T133810Z
UID:2844-1763769600-1763855999@amicale-musique-air.fr
SUMMARY:Concert Harmonie
DESCRIPTION:
URL:https://amicale-musique-air.fr/evenement/concert-harmonie-48/
LOCATION:Opéra Grand Avignon\, Place de l'Horloge\, Avignon\, 84000
END:VEVENT
END:VCALENDAR