BEGIN:VCALENDAR
VERSION:2.0
PRODID:-// - ECPv5.2.1.1//NONSGML v1.0//EN
CALSCALE:GREGORIAN
METHOD:PUBLISH
X-ORIGINAL-URL:https://amicale-musique-air.fr
X-WR-CALDESC:évènements pour 
BEGIN:VTIMEZONE
TZID:Europe/Paris
BEGIN:DAYLIGHT
TZOFFSETFROM:+0100
TZOFFSETTO:+0200
TZNAME:CEST
DTSTART:20250330T010000
END:DAYLIGHT
BEGIN:STANDARD
TZOFFSETFROM:+0200
TZOFFSETTO:+0100
TZNAME:CET
DTSTART:20251026T010000
END:STANDARD
END:VTIMEZONE
BEGIN:VEVENT
DTSTART;VALUE=DATE:20250719
DTEND;VALUE=DATE:20250720
DTSTAMP:20260420T174359
CREATED:20250310T152550Z
LAST-MODIFIED:20250310T152550Z
UID:2785-1752883200-1752969599@amicale-musique-air.fr
SUMMARY:Concert Harmonie
DESCRIPTION:Concert pique-nique au Parc Champagne \nFlâneries Musicales de Reims \nhttps://www.flaneriesreims.com/concert-pique-nique/
URL:https://amicale-musique-air.fr/evenement/concert-harmonie-43/
LOCATION:Parc Champagne\, 10 avenue du Général Giraud\, Reims\, 51100\, France
END:VEVENT
END:VCALENDAR