BEGIN:VCALENDAR
VERSION:2.0
PRODID:-// - ECPv5.2.1.1//NONSGML v1.0//EN
CALSCALE:GREGORIAN
METHOD:PUBLISH
X-ORIGINAL-URL:https://amicale-musique-air.fr
X-WR-CALDESC:évènements pour 
BEGIN:VTIMEZONE
TZID:Europe/Paris
BEGIN:DAYLIGHT
TZOFFSETFROM:+0100
TZOFFSETTO:+0200
TZNAME:CEST
DTSTART:20210328T010000
END:DAYLIGHT
BEGIN:STANDARD
TZOFFSETFROM:+0200
TZOFFSETTO:+0100
TZNAME:CET
DTSTART:20211031T010000
END:STANDARD
END:VTIMEZONE
BEGIN:VEVENT
DTSTART;TZID=Europe/Paris:20210919T160000
DTEND;TZID=Europe/Paris:20210919T173000
DTSTAMP:20260422T015424
CREATED:20210820T211433Z
LAST-MODIFIED:20210820T215800Z
UID:1736-1632067200-1632072600@amicale-musique-air.fr
SUMMARY:Concert Harmonie
DESCRIPTION:Les journées du Patrimoine \nProgramme : \nPrélude à l’après-midi d’un faune de Debussy\nPavane pour une infante défunte de Ravel\nPavane de Fauré\nPrélude symphonique de Puccini\nTe Deum (Tosca) de Puccini\nBelkis\, Reine de Saba de Respighi \nDirection : Didier Descamps
URL:https://amicale-musique-air.fr/evenement/concert-harmonie-3/
LOCATION:Panthéon\, Place du Panthéon\, Paris
END:VEVENT
END:VCALENDAR