BEGIN:VCALENDAR
VERSION:2.0
PRODID:-// - ECPv5.2.1.1//NONSGML v1.0//EN
CALSCALE:GREGORIAN
METHOD:PUBLISH
X-ORIGINAL-URL:https://amicale-musique-air.fr
X-WR-CALDESC:évènements pour 
BEGIN:VTIMEZONE
TZID:Indian/Reunion
BEGIN:STANDARD
TZOFFSETFROM:+0400
TZOFFSETTO:+0400
TZNAME:+04
DTSTART:20240101T000000
END:STANDARD
END:VTIMEZONE
BEGIN:VEVENT
DTSTART;TZID=Indian/Reunion:20240110T200000
DTEND;TZID=Indian/Reunion:20240110T200000
DTSTAMP:20260421T103324
CREATED:20240103T172349Z
LAST-MODIFIED:20240108T085818Z
UID:2399-1704916800-1704916800@amicale-musique-air.fr
SUMMARY:Concert Harmonie
DESCRIPTION:Programme :\nMusiques de films sur les thèmes de l’aviation et de l’espace (Top Gun\, E.T.\, Star Wars…)
URL:https://amicale-musique-air.fr/evenement/concert-harmonie-21/
LOCATION:TEAT Champ-Fleuri\, 2 rue du théâtre\, Saint-Denis\, La Réunion\, 97495\, France
END:VEVENT
END:VCALENDAR