BEGIN:VCALENDAR
VERSION:2.0
PRODID:-// - ECPv5.2.1.1//NONSGML v1.0//EN
CALSCALE:GREGORIAN
METHOD:PUBLISH
X-ORIGINAL-URL:https://amicale-musique-air.fr
X-WR-CALDESC:évènements pour 
BEGIN:VTIMEZONE
TZID:Europe/Paris
BEGIN:DAYLIGHT
TZOFFSETFROM:+0100
TZOFFSETTO:+0200
TZNAME:CEST
DTSTART:20230326T010000
END:DAYLIGHT
BEGIN:STANDARD
TZOFFSETFROM:+0200
TZOFFSETTO:+0100
TZNAME:CET
DTSTART:20231029T010000
END:STANDARD
END:VTIMEZONE
BEGIN:VEVENT
DTSTART;TZID=Europe/Paris:20230209T200000
DTEND;TZID=Europe/Paris:20230209T220000
DTSTAMP:20260421T140012
CREATED:20230109T110553Z
LAST-MODIFIED:20230130T104432Z
UID:2228-1675972800-1675980000@amicale-musique-air.fr
SUMMARY:Concert Harmonie
DESCRIPTION:
URL:https://amicale-musique-air.fr/evenement/concert-harmonie-16/
LOCATION:Grand Théâtre de Tours\, 34 rue de la Scellerie\, Tours\, 37000\, France
END:VEVENT
END:VCALENDAR