BEGIN:VCALENDAR
VERSION:2.0
PRODID:-// - ECPv5.2.1.1//NONSGML v1.0//EN
CALSCALE:GREGORIAN
METHOD:PUBLISH
X-ORIGINAL-URL:https://amicale-musique-air.fr
X-WR-CALDESC:évènements pour 
BEGIN:VTIMEZONE
TZID:Europe/Paris
BEGIN:DAYLIGHT
TZOFFSETFROM:+0100
TZOFFSETTO:+0200
TZNAME:CEST
DTSTART:20220327T010000
END:DAYLIGHT
BEGIN:STANDARD
TZOFFSETFROM:+0200
TZOFFSETTO:+0100
TZNAME:CET
DTSTART:20221030T010000
END:STANDARD
END:VTIMEZONE
BEGIN:VEVENT
DTSTART;TZID=Europe/Paris:20221125T080000
DTEND;TZID=Europe/Paris:20221125T170000
DTSTAMP:20260421T165634
CREATED:20220830T124608Z
LAST-MODIFIED:20220830T124608Z
UID:2187-1669363200-1669395600@amicale-musique-air.fr
SUMMARY:Concert Harmonie
DESCRIPTION:
URL:https://amicale-musique-air.fr/evenement/concert-harmonie-11/
LOCATION:Arnouville\, Arnouville\, 95400
END:VEVENT
END:VCALENDAR