BEGIN:VCALENDAR
VERSION:2.0
PRODID:-// - ECPv5.2.1.1//NONSGML v1.0//EN
CALSCALE:GREGORIAN
METHOD:PUBLISH
X-ORIGINAL-URL:https://amicale-musique-air.fr
X-WR-CALDESC:évènements pour 
BEGIN:VTIMEZONE
TZID:Europe/Paris
BEGIN:DAYLIGHT
TZOFFSETFROM:+0100
TZOFFSETTO:+0200
TZNAME:CEST
DTSTART:20250330T010000
END:DAYLIGHT
BEGIN:STANDARD
TZOFFSETFROM:+0200
TZOFFSETTO:+0100
TZNAME:CET
DTSTART:20251026T010000
END:STANDARD
END:VTIMEZONE
BEGIN:VEVENT
DTSTART;TZID=Europe/Paris:20250513T193000
DTEND;TZID=Europe/Paris:20250513T210000
DTSTAMP:20260420T231646
CREATED:20250310T145452Z
LAST-MODIFIED:20250310T145452Z
UID:2738-1747164600-1747170000@amicale-musique-air.fr
SUMMARY:Concert Formation Jazz
DESCRIPTION:
URL:https://amicale-musique-air.fr/evenement/concert-formation-jazz/
LOCATION:Cour des comptes\, 13 rue Cambon\, Paris\, 75001\, France
END:VEVENT
END:VCALENDAR