BEGIN:VCALENDAR
VERSION:2.0
PRODID:-// - ECPv5.2.1.1//NONSGML v1.0//EN
CALSCALE:GREGORIAN
METHOD:PUBLISH
X-ORIGINAL-URL:https://amicale-musique-air.fr
X-WR-CALDESC:évènements pour 
BEGIN:VTIMEZONE
TZID:Europe/Paris
BEGIN:DAYLIGHT
TZOFFSETFROM:+0100
TZOFFSETTO:+0200
TZNAME:CEST
DTSTART:20250330T010000
END:DAYLIGHT
BEGIN:STANDARD
TZOFFSETFROM:+0200
TZOFFSETTO:+0100
TZNAME:CET
DTSTART:20251026T010000
END:STANDARD
END:VTIMEZONE
BEGIN:VEVENT
DTSTART;VALUE=DATE:20250627
DTEND;VALUE=DATE:20250628
DTSTAMP:20260420T194708
CREATED:20250310T151548Z
LAST-MODIFIED:20250310T151548Z
UID:2772-1750982400-1751068799@amicale-musique-air.fr
SUMMARY:Concert Formation Jazz
DESCRIPTION:
URL:https://amicale-musique-air.fr/evenement/concert-formation-jazz-4/
LOCATION:École Militaire\, 1 place Joffre\, Paris\, 75007\, France
END:VEVENT
END:VCALENDAR