BEGIN:VCALENDAR
VERSION:2.0
PRODID:-// - ECPv5.2.1.1//NONSGML v1.0//EN
CALSCALE:GREGORIAN
METHOD:PUBLISH
X-ORIGINAL-URL:https://amicale-musique-air.fr
X-WR-CALDESC:évènements pour 
BEGIN:VTIMEZONE
TZID:Europe/Paris
BEGIN:DAYLIGHT
TZOFFSETFROM:+0100
TZOFFSETTO:+0200
TZNAME:CEST
DTSTART:20210328T010000
END:DAYLIGHT
BEGIN:STANDARD
TZOFFSETFROM:+0200
TZOFFSETTO:+0100
TZNAME:CET
DTSTART:20211031T010000
END:STANDARD
END:VTIMEZONE
BEGIN:VEVENT
DTSTART;TZID=Europe/Paris:20210326T190000
DTEND;TZID=Europe/Paris:20210326T200000
DTSTAMP:20260422T015304
CREATED:20210312T214700Z
LAST-MODIFIED:20210313T210047Z
UID:1247-1616785200-1616788800@amicale-musique-air.fr
SUMMARY:Concert en direct sur la chaîne YouTube de l'Armée de l'Air et de l'Espace
DESCRIPTION:Ci dessous un court extrait de Jupiter de G. Holst du coffret des 80 ans de la Musique de l’Air \n  \n\nhttps://amicale-musique-air.fr/wp-content/uploads/2021/03/Jupiter-Coupe.mp3\n 
URL:https://amicale-musique-air.fr/evenement/concert-en-direct-sur-la-chaine-youtube-de-larmee-de-lair-et-de-lespace/
END:VEVENT
END:VCALENDAR