BEGIN:VCALENDAR
VERSION:2.0
PRODID:-// - ECPv5.2.1.1//NONSGML v1.0//EN
CALSCALE:GREGORIAN
METHOD:PUBLISH
X-ORIGINAL-URL:https://amicale-musique-air.fr
X-WR-CALDESC:évènements pour 
BEGIN:VTIMEZONE
TZID:Europe/Paris
BEGIN:DAYLIGHT
TZOFFSETFROM:+0100
TZOFFSETTO:+0200
TZNAME:CEST
DTSTART:20200329T010000
END:DAYLIGHT
BEGIN:STANDARD
TZOFFSETFROM:+0200
TZOFFSETTO:+0100
TZNAME:CET
DTSTART:20201025T010000
END:STANDARD
END:VTIMEZONE
BEGIN:VEVENT
DTSTART;TZID=Europe/Paris:20201126T203000
DTEND;TZID=Europe/Paris:20201126T223000
DTSTAMP:20260422T032642
CREATED:20201024T191653Z
LAST-MODIFIED:20201109T202251Z
UID:1053-1606422600-1606429800@amicale-musique-air.fr
SUMMARY:Concert CRR de Paris repoté en 2021
DESCRIPTION:Ce concert s’inscrivant dans le cadre du concours de composition « Coup de Vent » avec les orchestres de la Garde\, la PP\, la PN\, est reprorté en 2021
URL:https://amicale-musique-air.fr/evenement/concert-crr-de-paris-sous-reserve/
END:VEVENT
END:VCALENDAR