BEGIN:VCALENDAR
VERSION:2.0
PRODID:-// - ECPv5.2.1.1//NONSGML v1.0//EN
CALSCALE:GREGORIAN
METHOD:PUBLISH
X-ORIGINAL-URL:https://amicale-musique-air.fr
X-WR-CALDESC:évènements pour 
BEGIN:VTIMEZONE
TZID:Europe/Paris
BEGIN:DAYLIGHT
TZOFFSETFROM:+0100
TZOFFSETTO:+0200
TZNAME:CEST
DTSTART:20250330T010000
END:DAYLIGHT
BEGIN:STANDARD
TZOFFSETFROM:+0200
TZOFFSETTO:+0100
TZNAME:CET
DTSTART:20251026T010000
END:STANDARD
END:VTIMEZONE
BEGIN:VEVENT
DTSTART;VALUE=DATE:20250703
DTEND;VALUE=DATE:20250704
DTSTAMP:20260420T175613
CREATED:20250310T151807Z
LAST-MODIFIED:20250310T151807Z
UID:2777-1751500800-1751587199@amicale-musique-air.fr
SUMMARY:Concert Brass Band et Harmonie
DESCRIPTION:
URL:https://amicale-musique-air.fr/evenement/concert-brass-band-et-harmonie/
LOCATION:Château de l’Empéri\, Salon de Provence\, 13300\, France
END:VEVENT
END:VCALENDAR