BEGIN:VCALENDAR
VERSION:2.0
PRODID:-// - ECPv5.2.1.1//NONSGML v1.0//EN
CALSCALE:GREGORIAN
METHOD:PUBLISH
X-ORIGINAL-URL:https://amicale-musique-air.fr
X-WR-CALDESC:évènements pour 
BEGIN:VTIMEZONE
TZID:Europe/Paris
BEGIN:DAYLIGHT
TZOFFSETFROM:+0100
TZOFFSETTO:+0200
TZNAME:CEST
DTSTART:20220327T010000
END:DAYLIGHT
BEGIN:STANDARD
TZOFFSETFROM:+0200
TZOFFSETTO:+0100
TZNAME:CET
DTSTART:20221030T010000
END:STANDARD
END:VTIMEZONE
BEGIN:VEVENT
DTSTART;TZID=Europe/Paris:20220625T200000
DTEND;TZID=Europe/Paris:20220625T220000
DTSTAMP:20260421T191237
CREATED:20220322T210835Z
LAST-MODIFIED:20220322T210835Z
UID:2128-1656187200-1656194400@amicale-musique-air.fr
SUMMARY:Concert Brass Band
DESCRIPTION:
URL:https://amicale-musique-air.fr/evenement/concert-brass-band-4/
LOCATION:Vercel\, VERCEL\, 25530
END:VEVENT
END:VCALENDAR