BEGIN:VCALENDAR
VERSION:2.0
PRODID:-// - ECPv5.2.1.1//NONSGML v1.0//EN
CALSCALE:GREGORIAN
METHOD:PUBLISH
X-ORIGINAL-URL:https://amicale-musique-air.fr
X-WR-CALDESC:évènements pour 
BEGIN:VTIMEZONE
TZID:Europe/Paris
BEGIN:DAYLIGHT
TZOFFSETFROM:+0100
TZOFFSETTO:+0200
TZNAME:CEST
DTSTART:20250330T010000
END:DAYLIGHT
BEGIN:STANDARD
TZOFFSETFROM:+0200
TZOFFSETTO:+0100
TZNAME:CET
DTSTART:20251026T010000
END:STANDARD
END:VTIMEZONE
BEGIN:VEVENT
DTSTART;TZID=Europe/Paris:20250906T203000
DTEND;TZID=Europe/Paris:20250906T203000
DTSTAMP:20260420T161028
CREATED:20250709T131323Z
LAST-MODIFIED:20250709T131323Z
UID:2804-1757190600-1757190600@amicale-musique-air.fr
SUMMARY:Concert Brass Band
DESCRIPTION:Concert d’ouverture des Musicales du Rhin
URL:https://amicale-musique-air.fr/evenement/concert-brass-band-17/
LOCATION:Église Widensolen\, place de l’église\, Widensolen\, 68320\, France
END:VEVENT
END:VCALENDAR