BEGIN:VCALENDAR
VERSION:2.0
PRODID:-// - ECPv5.2.1.1//NONSGML v1.0//EN
CALSCALE:GREGORIAN
METHOD:PUBLISH
X-ORIGINAL-URL:https://amicale-musique-air.fr
X-WR-CALDESC:évènements pour 
BEGIN:VTIMEZONE
TZID:Europe/Paris
BEGIN:DAYLIGHT
TZOFFSETFROM:+0100
TZOFFSETTO:+0200
TZNAME:CEST
DTSTART:20250330T010000
END:DAYLIGHT
BEGIN:STANDARD
TZOFFSETFROM:+0200
TZOFFSETTO:+0100
TZNAME:CET
DTSTART:20251026T010000
END:STANDARD
END:VTIMEZONE
BEGIN:VEVENT
DTSTART;TZID=Europe/Paris:20250525T163000
DTEND;TZID=Europe/Paris:20250525T190000
DTSTAMP:20260420T195439
CREATED:20250310T151130Z
LAST-MODIFIED:20250310T151130Z
UID:2760-1748190600-1748199600@amicale-musique-air.fr
SUMMARY:Concert Brass Band
DESCRIPTION:
URL:https://amicale-musique-air.fr/evenement/concert-brass-band-15/
LOCATION:Vittel\, Vittel\, 88800\, France
END:VEVENT
END:VCALENDAR