BEGIN:VCALENDAR
VERSION:2.0
PRODID:-// - ECPv5.2.1.1//NONSGML v1.0//EN
CALSCALE:GREGORIAN
METHOD:PUBLISH
X-ORIGINAL-URL:https://amicale-musique-air.fr
X-WR-CALDESC:évènements pour 
BEGIN:VTIMEZONE
TZID:Europe/Paris
BEGIN:DAYLIGHT
TZOFFSETFROM:+0100
TZOFFSETTO:+0200
TZNAME:CEST
DTSTART:20250330T010000
END:DAYLIGHT
BEGIN:STANDARD
TZOFFSETFROM:+0200
TZOFFSETTO:+0100
TZNAME:CET
DTSTART:20251026T010000
END:STANDARD
END:VTIMEZONE
BEGIN:VEVENT
DTSTART;VALUE=DATE:20250516
DTEND;VALUE=DATE:20250517
DTSTAMP:20260420T194343
CREATED:20250310T150112Z
LAST-MODIFIED:20250310T150112Z
UID:2745-1747353600-1747439999@amicale-musique-air.fr
SUMMARY:Concert Brass Band
DESCRIPTION:
URL:https://amicale-musique-air.fr/evenement/concert-brass-band-14/
LOCATION:Cathédrale d’Orléans\, Place Sainte Croix\, Orléans\, 45000\, France
END:VEVENT
END:VCALENDAR