BEGIN:VCALENDAR
VERSION:2.0
PRODID:-// - ECPv5.2.1.1//NONSGML v1.0//EN
CALSCALE:GREGORIAN
METHOD:PUBLISH
X-ORIGINAL-URL:https://amicale-musique-air.fr
X-WR-CALDESC:évènements pour 
BEGIN:VTIMEZONE
TZID:Europe/Paris
BEGIN:DAYLIGHT
TZOFFSETFROM:+0100
TZOFFSETTO:+0200
TZNAME:CEST
DTSTART:20240331T010000
END:DAYLIGHT
BEGIN:STANDARD
TZOFFSETFROM:+0200
TZOFFSETTO:+0100
TZNAME:CET
DTSTART:20241027T010000
END:STANDARD
END:VTIMEZONE
BEGIN:VEVENT
DTSTART;TZID=Europe/Paris:20240930T200000
DTEND;TZID=Europe/Paris:20240930T220000
DTSTAMP:20260421T051103
CREATED:20240919T162047Z
LAST-MODIFIED:20240919T162047Z
UID:2604-1727726400-1727733600@amicale-musique-air.fr
SUMMARY:Concert Brass Band
DESCRIPTION:
URL:https://amicale-musique-air.fr/evenement/concert-brass-band-11/
LOCATION:Villa Massena\, 65 rue de France\, Nice\, 06000\, France
END:VEVENT
END:VCALENDAR