BEGIN:VCALENDAR
VERSION:2.0
PRODID:-// - ECPv5.2.1.1//NONSGML v1.0//EN
CALSCALE:GREGORIAN
METHOD:PUBLISH
X-ORIGINAL-URL:https://amicale-musique-air.fr
X-WR-CALDESC:évènements pour 
BEGIN:VTIMEZONE
TZID:Europe/Paris
BEGIN:DAYLIGHT
TZOFFSETFROM:+0100
TZOFFSETTO:+0200
TZNAME:CEST
DTSTART:20230326T010000
END:DAYLIGHT
BEGIN:STANDARD
TZOFFSETFROM:+0200
TZOFFSETTO:+0100
TZNAME:CET
DTSTART:20231029T010000
END:STANDARD
END:VTIMEZONE
BEGIN:VEVENT
DTSTART;TZID=Europe/Paris:20230930T150000
DTEND;TZID=Europe/Paris:20230930T163000
DTSTAMP:20260421T103857
CREATED:20230928T065210Z
LAST-MODIFIED:20230928T065210Z
UID:2352-1696086000-1696091400@amicale-musique-air.fr
SUMMARY:Concert BRASS
DESCRIPTION:Au programme de ce concert exceptionnel : \nsous la direction du Capitaine Laurent DOUVRE \nEuphonium Concerto :      K. Jenkins \nThe Legend of King Arthur  :  P. Meechan \nLyrica :      S. Roels \nHymne à l’amour  :     E. Piaf
URL:https://amicale-musique-air.fr/evenement/concert-brass-5/
LOCATION:Panthéon\, Place du Panthéon\, Paris
END:VEVENT
END:VCALENDAR