BEGIN:VCALENDAR
VERSION:2.0
PRODID:-// - ECPv5.2.1.1//NONSGML v1.0//EN
CALSCALE:GREGORIAN
METHOD:PUBLISH
X-ORIGINAL-URL:https://amicale-musique-air.fr
X-WR-CALDESC:évènements pour 
BEGIN:VTIMEZONE
TZID:Europe/Paris
BEGIN:DAYLIGHT
TZOFFSETFROM:+0100
TZOFFSETTO:+0200
TZNAME:CEST
DTSTART:20210328T010000
END:DAYLIGHT
BEGIN:STANDARD
TZOFFSETFROM:+0200
TZOFFSETTO:+0100
TZNAME:CET
DTSTART:20211031T010000
END:STANDARD
END:VTIMEZONE
BEGIN:VEVENT
DTSTART;TZID=Europe/Paris:20211009T150000
DTEND;TZID=Europe/Paris:20211009T160000
DTSTAMP:20260421T221031
CREATED:20210820T214540Z
LAST-MODIFIED:20211007T091241Z
UID:1760-1633791600-1633795200@amicale-musique-air.fr
SUMMARY:Concert Brass ANNULE
DESCRIPTION:https://amicale-musique-air.fr/wp-content/uploads/2021/04/1-Orient-Express-Florentiner-March.wav
URL:https://amicale-musique-air.fr/evenement/concert-brass-3/
LOCATION:Panthéon\, Place du Panthéon\, Paris
END:VEVENT
END:VCALENDAR