BEGIN:VCALENDAR
VERSION:2.0
PRODID:-// - ECPv5.2.1.1//NONSGML v1.0//EN
CALSCALE:GREGORIAN
METHOD:PUBLISH
X-ORIGINAL-URL:https://amicale-musique-air.fr
X-WR-CALDESC:évènements pour 
BEGIN:VTIMEZONE
TZID:Europe/Paris
BEGIN:DAYLIGHT
TZOFFSETFROM:+0100
TZOFFSETTO:+0200
TZNAME:CEST
DTSTART:20210328T010000
END:DAYLIGHT
BEGIN:STANDARD
TZOFFSETFROM:+0200
TZOFFSETTO:+0100
TZNAME:CET
DTSTART:20211031T010000
END:STANDARD
END:VTIMEZONE
BEGIN:VEVENT
DTSTART;TZID=Europe/Paris:20210128T215032
DTEND;TZID=Europe/Paris:20210128T215032
DTSTAMP:20260422T034842
CREATED:20201109T202724Z
LAST-MODIFIED:20210128T215032Z
UID:1062-1611870632-1611870632@amicale-musique-air.fr
SUMMARY:Concert à l'Hôtel de ville de Paris
DESCRIPTION:Repoté à l’automne 2021
URL:https://amicale-musique-air.fr/evenement/concert-a-lhotel-de-ville-de-paris/
END:VEVENT
END:VCALENDAR